BEGIN:VCALENDAR
VERSION:2.0
PRODID:-//www.cumberlandcf.org//NONSGML kigkonsult.se iCalcreator 2.30.10//
CALSCALE:GREGORIAN
METHOD:PUBLISH
UID:ff585232-4163-44df-be26-bc6467e5158e
X-WR-CALDESC:This session is for nonprofit organizations seeking more infor
 mation about Cumberland Community Foundation and the types of grants offer
 ed through the foundation.
X-WR-RELCALID:ac63abfd983f7ad0da6367b627ae96bd
X-WR-TIMEZONE:America/New_York
BEGIN:VTIMEZONE
TZID:America/New_York
BEGIN:STANDARD
TZNAME:EST
DTSTART:20241103T020000
TZOFFSETFROM:-0400
TZOFFSETTO:-0500
RDATE:20251102T020000
RDATE:20261101T020000
END:STANDARD
BEGIN:DAYLIGHT
TZNAME:EDT
DTSTART:20250309T020000
TZOFFSETFROM:-0500
TZOFFSETTO:-0400
RDATE:20260308T020000
END:DAYLIGHT
END:VTIMEZONE
BEGIN:VEVENT
UID:db9b26d8-dfc5-495f-9d0f-1c18bcbec69a
DTSTAMP:20260421T215902Z
DESCRIPTION:This session is for nonprofit organizations seeking more inform
 ation about Cumberland Community Foundation and the types of grants offere
 d through the foundation.
DTSTART;TZID=America/New_York:20250710T100000
DTEND;TZID=America/New_York:20250710T110000
LOCATION:308 Green Street\, Fayetteville\, NC 28302 US
SUMMARY:Grant Seeker Information Session
END:VEVENT
END:VCALENDAR
