BEGIN:VCALENDAR
VERSION:2.0
PRODID:-//www.cumberlandcf.org//NONSGML kigkonsult.se iCalcreator 2.30.10//
CALSCALE:GREGORIAN
METHOD:PUBLISH
UID:16e955e4-a51d-48bb-8e03-4306ab4b487b
X-WR-CALDESC:This session is for nonprofit organizations seeking more infor
 mation about Cumberland Community Foundation and the types of grants offer
 ed through the foundation.
X-WR-RELCALID:eeab28d5d7baab8026f923ba3343d67b
X-WR-TIMEZONE:America/New_York
BEGIN:VTIMEZONE
TZID:America/New_York
BEGIN:STANDARD
TZNAME:EST
DTSTART:20241103T020000
TZOFFSETFROM:-0400
TZOFFSETTO:-0500
RDATE:20251102T020000
RDATE:20261101T020000
END:STANDARD
BEGIN:DAYLIGHT
TZNAME:EDT
DTSTART:20250309T020000
TZOFFSETFROM:-0500
TZOFFSETTO:-0400
RDATE:20260308T020000
END:DAYLIGHT
END:VTIMEZONE
BEGIN:VEVENT
UID:aba72529-95e1-4a54-bbd0-12b7926dcef1
DTSTAMP:20260421T200418Z
DESCRIPTION:This session is for nonprofit organizations seeking more inform
 ation about Cumberland Community Foundation and the types of grants offere
 d through the foundation.
DTSTART;TZID=America/New_York:20250717T160000
DTEND;TZID=America/New_York:20250717T170000
LOCATION:308 Green Street\, Fayetteville\, NC 28302 US
SUMMARY:Grant Seeker Information Session
END:VEVENT
END:VCALENDAR
